BEGIN:VCALENDAR
VERSION:2.0
PRODID:-//CEIP San Francisco - ECPv5.2.1//NONSGML v1.0//EN
CALSCALE:GREGORIAN
METHOD:PUBLISH
X-WR-CALNAME:CEIP San Francisco
X-ORIGINAL-URL:https://ceipsanfranciscocajar.es
X-WR-CALDESC:Eventos para CEIP San Francisco
BEGIN:VTIMEZONE
TZID:Europe/Madrid
BEGIN:DAYLIGHT
TZOFFSETFROM:+0100
TZOFFSETTO:+0200
TZNAME:CEST
DTSTART:20200329T010000
END:DAYLIGHT
BEGIN:STANDARD
TZOFFSETFROM:+0200
TZOFFSETTO:+0100
TZNAME:CET
DTSTART:20201025T010000
END:STANDARD
BEGIN:DAYLIGHT
TZOFFSETFROM:+0100
TZOFFSETTO:+0200
TZNAME:CEST
DTSTART:20210328T010000
END:DAYLIGHT
BEGIN:STANDARD
TZOFFSETFROM:+0200
TZOFFSETTO:+0100
TZNAME:CET
DTSTART:20211031T010000
END:STANDARD
END:VTIMEZONE
BEGIN:VEVENT
DTSTART;VALUE=DATE:20201223
DTEND;VALUE=DATE:20210108
DTSTAMP:20260419T165931
CREATED:20201012T230227Z
LAST-MODIFIED:20201221T102235Z
UID:307-1608685200-1609981199@ceipsanfranciscocajar.es
SUMMARY:Vacaciones de Navidad
DESCRIPTION:Vacaciones de Navidad
URL:https://ceipsanfranciscocajar.es/index.php/event/vacaciones-de-navidad/
CATEGORIES:No lectivo
END:VEVENT
END:VCALENDAR