BEGIN:VCALENDAR
VERSION:2.0
PRODID:-//CEIP San Francisco - ECPv5.2.1//NONSGML v1.0//EN
CALSCALE:GREGORIAN
METHOD:PUBLISH
X-WR-CALNAME:CEIP San Francisco
X-ORIGINAL-URL:https://ceipsanfranciscocajar.es
X-WR-CALDESC:Eventos para CEIP San Francisco
BEGIN:VTIMEZONE
TZID:Europe/Madrid
BEGIN:DAYLIGHT
TZOFFSETFROM:+0100
TZOFFSETTO:+0200
TZNAME:CEST
DTSTART:20200329T010000
END:DAYLIGHT
BEGIN:STANDARD
TZOFFSETFROM:+0200
TZOFFSETTO:+0100
TZNAME:CET
DTSTART:20201025T010000
END:STANDARD
END:VTIMEZONE
BEGIN:VEVENT
DTSTART;VALUE=DATE:20201030
DTEND;VALUE=DATE:20201031
DTSTAMP:20260423T123846
CREATED:20201028T191507Z
LAST-MODIFIED:20201028T192306Z
UID:577-1604016000-1604102399@ceipsanfranciscocajar.es
SUMMARY:Celebración de Halloween
DESCRIPTION:El viernes 30 de octubre celebraremos «Halloween en el cole»\, haremos todo tipo de actividades «monstruosas».
URL:https://ceipsanfranciscocajar.es/index.php/event/celebracion-de-halloween/
CATEGORIES:Actividades
END:VEVENT
BEGIN:VEVENT
DTSTART;VALUE=DATE:20201102
DTEND;VALUE=DATE:20201103
DTSTAMP:20260423T123846
CREATED:20201029T184323Z
LAST-MODIFIED:20201029T184323Z
UID:606-1604275200-1604361599@ceipsanfranciscocajar.es
SUMMARY:Día no lectivo
DESCRIPTION:Fiesta de todos los santos (trasladada)
URL:https://ceipsanfranciscocajar.es/index.php/event/dia-no-lectivo/
CATEGORIES:No lectivo
END:VEVENT
END:VCALENDAR