BEGIN:VCALENDAR
VERSION:2.0
PRODID:-//CEIP San Francisco - ECPv5.2.1//NONSGML v1.0//EN
CALSCALE:GREGORIAN
METHOD:PUBLISH
X-WR-CALNAME:CEIP San Francisco
X-ORIGINAL-URL:https://ceipsanfranciscocajar.es
X-WR-CALDESC:Eventos para CEIP San Francisco
BEGIN:VTIMEZONE
TZID:Europe/Madrid
BEGIN:DAYLIGHT
TZOFFSETFROM:+0100
TZOFFSETTO:+0200
TZNAME:CEST
DTSTART:20210328T010000
END:DAYLIGHT
BEGIN:STANDARD
TZOFFSETFROM:+0200
TZOFFSETTO:+0100
TZNAME:CET
DTSTART:20211031T010000
END:STANDARD
END:VTIMEZONE
BEGIN:VEVENT
DTSTART;VALUE=DATE:20210301
DTEND;VALUE=DATE:20210303
DTSTAMP:20260423T061750
CREATED:20201012T230542Z
LAST-MODIFIED:20201012T230542Z
UID:311-1614560400-1614646799@ceipsanfranciscocajar.es
SUMMARY:Día no lectivo
DESCRIPTION:Día de Andalucía
URL:https://ceipsanfranciscocajar.es/index.php/event/dia-no-lectivo-5/
CATEGORIES:No lectivo
END:VEVENT
BEGIN:VEVENT
DTSTART;VALUE=DATE:20210329
DTEND;VALUE=DATE:20210404
DTSTAMP:20260423T061750
CREATED:20201012T230805Z
LAST-MODIFIED:20201012T230805Z
UID:313-1616983200-1617415199@ceipsanfranciscocajar.es
SUMMARY:Vacaciones de Semana Santa
DESCRIPTION:Vacaciones de Semana Santa
URL:https://ceipsanfranciscocajar.es/index.php/event/vacaciones-de-semana-santa/
CATEGORIES:No lectivo
END:VEVENT
END:VCALENDAR